BEGIN:VCALENDAR
VERSION:2.0
PRODID:-//Eglise Evangélique Libre en Avignon - ECPv6.15.20//NONSGML v1.0//EN
CALSCALE:GREGORIAN
METHOD:PUBLISH
X-WR-CALNAME:Eglise Evangélique Libre en Avignon
X-ORIGINAL-URL:https://eelavignon.com
X-WR-CALDESC:Évènements pour Eglise Evangélique Libre en Avignon
REFRESH-INTERVAL;VALUE=DURATION:PT1H
X-Robots-Tag:noindex
X-PUBLISHED-TTL:PT1H
BEGIN:VTIMEZONE
TZID:Europe/Paris
BEGIN:DAYLIGHT
TZOFFSETFROM:+0100
TZOFFSETTO:+0200
TZNAME:CEST
DTSTART:20250330T010000
END:DAYLIGHT
BEGIN:STANDARD
TZOFFSETFROM:+0200
TZOFFSETTO:+0100
TZNAME:CET
DTSTART:20251026T010000
END:STANDARD
BEGIN:DAYLIGHT
TZOFFSETFROM:+0100
TZOFFSETTO:+0200
TZNAME:CEST
DTSTART:20260329T010000
END:DAYLIGHT
BEGIN:STANDARD
TZOFFSETFROM:+0200
TZOFFSETTO:+0100
TZNAME:CET
DTSTART:20261025T010000
END:STANDARD
BEGIN:DAYLIGHT
TZOFFSETFROM:+0100
TZOFFSETTO:+0200
TZNAME:CEST
DTSTART:20270328T010000
END:DAYLIGHT
BEGIN:STANDARD
TZOFFSETFROM:+0200
TZOFFSETTO:+0100
TZNAME:CET
DTSTART:20271031T010000
END:STANDARD
END:VTIMEZONE
BEGIN:VEVENT
DTSTART;TZID=Europe/Paris:20260419T103000
DTEND;TZID=Europe/Paris:20260419T120000
DTSTAMP:20260419T171233
CREATED:20251223T152057Z
LAST-MODIFIED:20260401T014849Z
UID:10000214-1776594600-1776600000@eelavignon.com
SUMMARY:Culte
DESCRIPTION:Accueil café à partir de 10h. Bienvenue à tous !
URL:https://eelavignon.com/events/culte-47/
END:VEVENT
END:VCALENDAR