BEGIN:VCALENDAR
VERSION:2.0
PRODID:-//Eglise Evangélique Libre en Avignon - ECPv6.15.20//NONSGML v1.0//EN
CALSCALE:GREGORIAN
METHOD:PUBLISH
X-ORIGINAL-URL:https://eelavignon.com
X-WR-CALDESC:Évènements pour Eglise Evangélique Libre en Avignon
REFRESH-INTERVAL;VALUE=DURATION:PT1H
X-Robots-Tag:noindex
X-PUBLISHED-TTL:PT1H
BEGIN:VTIMEZONE
TZID:Europe/Paris
BEGIN:DAYLIGHT
TZOFFSETFROM:+0100
TZOFFSETTO:+0200
TZNAME:CEST
DTSTART:20250330T010000
END:DAYLIGHT
BEGIN:STANDARD
TZOFFSETFROM:+0200
TZOFFSETTO:+0100
TZNAME:CET
DTSTART:20251026T010000
END:STANDARD
BEGIN:DAYLIGHT
TZOFFSETFROM:+0100
TZOFFSETTO:+0200
TZNAME:CEST
DTSTART:20260329T010000
END:DAYLIGHT
BEGIN:STANDARD
TZOFFSETFROM:+0200
TZOFFSETTO:+0100
TZNAME:CET
DTSTART:20261025T010000
END:STANDARD
BEGIN:DAYLIGHT
TZOFFSETFROM:+0100
TZOFFSETTO:+0200
TZNAME:CEST
DTSTART:20270328T010000
END:DAYLIGHT
BEGIN:STANDARD
TZOFFSETFROM:+0200
TZOFFSETTO:+0100
TZNAME:CET
DTSTART:20271031T010000
END:STANDARD
END:VTIMEZONE
BEGIN:VEVENT
DTSTART;TZID=Europe/Paris:20260503T103000
DTEND;TZID=Europe/Paris:20260503T120000
DTSTAMP:20260421T123128
CREATED:20251223T152057Z
LAST-MODIFIED:20260401T014849Z
UID:10000216-1777804200-1777809600@eelavignon.com
SUMMARY:Culte
DESCRIPTION:Accueil café à partir de 10h. Bienvenue à tous !
URL:https://eelavignon.com/events/culte-49/
END:VEVENT
BEGIN:VEVENT
DTSTART;TZID=Europe/Paris:20260507T190000
DTEND;TZID=Europe/Paris:20260507T200000
DTSTAMP:20260421T123128
CREATED:20250923T155527Z
LAST-MODIFIED:20260401T014849Z
UID:10000164-1778180400-1778184000@eelavignon.com
SUMMARY:Halte prière
DESCRIPTION:
URL:https://eelavignon.com/events/halte-priere-8/
END:VEVENT
BEGIN:VEVENT
DTSTART;TZID=Europe/Paris:20260510T103000
DTEND;TZID=Europe/Paris:20260510T120000
DTSTAMP:20260421T123128
CREATED:20251223T152057Z
LAST-MODIFIED:20260401T014849Z
UID:10000217-1778409000-1778414400@eelavignon.com
SUMMARY:Culte
DESCRIPTION:Accueil café à partir de 10h. Bienvenue à tous !
URL:https://eelavignon.com/events/culte-50/
END:VEVENT
BEGIN:VEVENT
DTSTART;TZID=Europe/Paris:20260517T103000
DTEND;TZID=Europe/Paris:20260517T120000
DTSTAMP:20260421T123128
CREATED:20251223T152057Z
LAST-MODIFIED:20260401T014849Z
UID:10000218-1779013800-1779019200@eelavignon.com
SUMMARY:Culte
DESCRIPTION:Accueil café à partir de 10h. Bienvenue à tous !
URL:https://eelavignon.com/events/culte-51/
END:VEVENT
BEGIN:VEVENT
DTSTART;TZID=Europe/Paris:20260524T103000
DTEND;TZID=Europe/Paris:20260524T120000
DTSTAMP:20260421T123128
CREATED:20251223T152057Z
LAST-MODIFIED:20260401T014849Z
UID:10000219-1779618600-1779624000@eelavignon.com
SUMMARY:Culte
DESCRIPTION:Accueil café à partir de 10h. Bienvenue à tous !
URL:https://eelavignon.com/events/culte-52/
END:VEVENT
BEGIN:VEVENT
DTSTART;TZID=Europe/Paris:20260531T103000
DTEND;TZID=Europe/Paris:20260531T120000
DTSTAMP:20260421T123128
CREATED:20251223T152057Z
LAST-MODIFIED:20260401T014849Z
UID:10000220-1780223400-1780228800@eelavignon.com
SUMMARY:Culte
DESCRIPTION:Accueil café à partir de 10h. Bienvenue à tous !
URL:https://eelavignon.com/events/culte-53/
END:VEVENT
END:VCALENDAR