BEGIN:VCALENDAR
VERSION:2.0
PRODID:-//Eglise Evangélique Libre en Avignon - ECPv6.15.20//NONSGML v1.0//EN
CALSCALE:GREGORIAN
METHOD:PUBLISH
X-ORIGINAL-URL:https://eelavignon.com
X-WR-CALDESC:Évènements pour Eglise Evangélique Libre en Avignon
REFRESH-INTERVAL;VALUE=DURATION:PT1H
X-Robots-Tag:noindex
X-PUBLISHED-TTL:PT1H
BEGIN:VTIMEZONE
TZID:Europe/Paris
BEGIN:DAYLIGHT
TZOFFSETFROM:+0100
TZOFFSETTO:+0200
TZNAME:CEST
DTSTART:20250330T010000
END:DAYLIGHT
BEGIN:STANDARD
TZOFFSETFROM:+0200
TZOFFSETTO:+0100
TZNAME:CET
DTSTART:20251026T010000
END:STANDARD
BEGIN:DAYLIGHT
TZOFFSETFROM:+0100
TZOFFSETTO:+0200
TZNAME:CEST
DTSTART:20260329T010000
END:DAYLIGHT
BEGIN:STANDARD
TZOFFSETFROM:+0200
TZOFFSETTO:+0100
TZNAME:CET
DTSTART:20261025T010000
END:STANDARD
BEGIN:DAYLIGHT
TZOFFSETFROM:+0100
TZOFFSETTO:+0200
TZNAME:CEST
DTSTART:20270328T010000
END:DAYLIGHT
BEGIN:STANDARD
TZOFFSETFROM:+0200
TZOFFSETTO:+0100
TZNAME:CET
DTSTART:20271031T010000
END:STANDARD
END:VTIMEZONE
BEGIN:VEVENT
DTSTART;TZID=Europe/Paris:20260802T103000
DTEND;TZID=Europe/Paris:20260802T120000
DTSTAMP:20260423T164447
CREATED:20251223T152057Z
LAST-MODIFIED:20260401T014849Z
UID:10000229-1785666600-1785672000@eelavignon.com
SUMMARY:Culte
DESCRIPTION:Accueil café à partir de 10h. Bienvenue à tous !
URL:https://eelavignon.com/events/culte-62/
END:VEVENT
BEGIN:VEVENT
DTSTART;TZID=Europe/Paris:20260809T103000
DTEND;TZID=Europe/Paris:20260809T120000
DTSTAMP:20260423T164447
CREATED:20251223T152057Z
LAST-MODIFIED:20260401T014849Z
UID:10000230-1786271400-1786276800@eelavignon.com
SUMMARY:Culte
DESCRIPTION:Accueil café à partir de 10h. Bienvenue à tous !
URL:https://eelavignon.com/events/culte-63/
END:VEVENT
BEGIN:VEVENT
DTSTART;TZID=Europe/Paris:20260816T103000
DTEND;TZID=Europe/Paris:20260816T120000
DTSTAMP:20260423T164447
CREATED:20251223T152057Z
LAST-MODIFIED:20260401T014849Z
UID:10000231-1786876200-1786881600@eelavignon.com
SUMMARY:Culte
DESCRIPTION:Accueil café à partir de 10h. Bienvenue à tous !
URL:https://eelavignon.com/events/culte-64/
END:VEVENT
BEGIN:VEVENT
DTSTART;TZID=Europe/Paris:20260823T103000
DTEND;TZID=Europe/Paris:20260823T120000
DTSTAMP:20260423T164447
CREATED:20251223T152057Z
LAST-MODIFIED:20260401T014849Z
UID:10000232-1787481000-1787486400@eelavignon.com
SUMMARY:Culte
DESCRIPTION:Accueil café à partir de 10h. Bienvenue à tous !
URL:https://eelavignon.com/events/culte-65/
END:VEVENT
BEGIN:VEVENT
DTSTART;TZID=Europe/Paris:20260830T103000
DTEND;TZID=Europe/Paris:20260830T120000
DTSTAMP:20260423T164447
CREATED:20251223T152057Z
LAST-MODIFIED:20260401T014850Z
UID:10000233-1788085800-1788091200@eelavignon.com
SUMMARY:Culte
DESCRIPTION:Accueil café à partir de 10h. Bienvenue à tous !
URL:https://eelavignon.com/events/culte-66/
END:VEVENT
END:VCALENDAR