BEGIN:VCALENDAR
VERSION:2.0
PRODID:-//Eglise Evangélique Libre en Avignon - ECPv6.15.20//NONSGML v1.0//EN
CALSCALE:GREGORIAN
METHOD:PUBLISH
X-ORIGINAL-URL:https://eelavignon.com
X-WR-CALDESC:Évènements pour Eglise Evangélique Libre en Avignon
REFRESH-INTERVAL;VALUE=DURATION:PT1H
X-Robots-Tag:noindex
X-PUBLISHED-TTL:PT1H
BEGIN:VTIMEZONE
TZID:Europe/Paris
BEGIN:DAYLIGHT
TZOFFSETFROM:+0100
TZOFFSETTO:+0200
TZNAME:CEST
DTSTART:20250330T010000
END:DAYLIGHT
BEGIN:STANDARD
TZOFFSETFROM:+0200
TZOFFSETTO:+0100
TZNAME:CET
DTSTART:20251026T010000
END:STANDARD
BEGIN:DAYLIGHT
TZOFFSETFROM:+0100
TZOFFSETTO:+0200
TZNAME:CEST
DTSTART:20260329T010000
END:DAYLIGHT
BEGIN:STANDARD
TZOFFSETFROM:+0200
TZOFFSETTO:+0100
TZNAME:CET
DTSTART:20261025T010000
END:STANDARD
BEGIN:DAYLIGHT
TZOFFSETFROM:+0100
TZOFFSETTO:+0200
TZNAME:CEST
DTSTART:20270328T010000
END:DAYLIGHT
BEGIN:STANDARD
TZOFFSETFROM:+0200
TZOFFSETTO:+0100
TZNAME:CET
DTSTART:20271031T010000
END:STANDARD
END:VTIMEZONE
BEGIN:VEVENT
DTSTART;TZID=Europe/Paris:20260906T103000
DTEND;TZID=Europe/Paris:20260906T120000
DTSTAMP:20260423T181325
CREATED:20251223T152057Z
LAST-MODIFIED:20260401T014850Z
UID:10000234-1788690600-1788696000@eelavignon.com
SUMMARY:Culte
DESCRIPTION:Accueil café à partir de 10h. Bienvenue à tous !
URL:https://eelavignon.com/events/culte-67/
END:VEVENT
BEGIN:VEVENT
DTSTART;TZID=Europe/Paris:20260906T123000
DTEND;TZID=Europe/Paris:20260906T150000
DTSTAMP:20260423T181325
CREATED:20251113T105130Z
LAST-MODIFIED:20260401T014850Z
UID:10000193-1788697800-1788706800@eelavignon.com
SUMMARY:Repas d'Église
DESCRIPTION:
URL:https://eelavignon.com/events/repas-deglise-7/
END:VEVENT
BEGIN:VEVENT
DTSTART;TZID=Europe/Paris:20260913T103000
DTEND;TZID=Europe/Paris:20260913T120000
DTSTAMP:20260423T181325
CREATED:20251223T152057Z
LAST-MODIFIED:20260401T014850Z
UID:10000235-1789295400-1789300800@eelavignon.com
SUMMARY:Culte
DESCRIPTION:Accueil café à partir de 10h. Bienvenue à tous !
URL:https://eelavignon.com/events/culte-68/
END:VEVENT
BEGIN:VEVENT
DTSTART;TZID=Europe/Paris:20260920T103000
DTEND;TZID=Europe/Paris:20260920T120000
DTSTAMP:20260423T181325
CREATED:20251223T152057Z
LAST-MODIFIED:20260401T014850Z
UID:10000236-1789900200-1789905600@eelavignon.com
SUMMARY:Culte
DESCRIPTION:Accueil café à partir de 10h. Bienvenue à tous !
URL:https://eelavignon.com/events/culte-69/
END:VEVENT
BEGIN:VEVENT
DTSTART;TZID=Europe/Paris:20260927T103000
DTEND;TZID=Europe/Paris:20260927T120000
DTSTAMP:20260423T181325
CREATED:20251223T152057Z
LAST-MODIFIED:20260401T014850Z
UID:10000237-1790505000-1790510400@eelavignon.com
SUMMARY:Culte
DESCRIPTION:Accueil café à partir de 10h. Bienvenue à tous !
URL:https://eelavignon.com/events/culte-70/
END:VEVENT
END:VCALENDAR